BEGIN:VCALENDAR
VERSION:2.0
PRODID:-//ESOC Climbing Club - ECPv6.11.2//NONSGML v1.0//EN
CALSCALE:GREGORIAN
METHOD:PUBLISH
X-WR-CALNAME:ESOC Climbing Club
X-ORIGINAL-URL:https://esoc-climbing.de
X-WR-CALDESC:Events for ESOC Climbing Club
REFRESH-INTERVAL;VALUE=DURATION:PT1H
X-Robots-Tag:noindex
X-PUBLISHED-TTL:PT1H
BEGIN:VTIMEZONE
TZID:Europe/Berlin
BEGIN:DAYLIGHT
TZOFFSETFROM:+0100
TZOFFSETTO:+0200
TZNAME:CEST
DTSTART:20210328T010000
END:DAYLIGHT
BEGIN:STANDARD
TZOFFSETFROM:+0200
TZOFFSETTO:+0100
TZNAME:CET
DTSTART:20211031T010000
END:STANDARD
BEGIN:DAYLIGHT
TZOFFSETFROM:+0100
TZOFFSETTO:+0200
TZNAME:CEST
DTSTART:20220327T010000
END:DAYLIGHT
BEGIN:STANDARD
TZOFFSETFROM:+0200
TZOFFSETTO:+0100
TZNAME:CET
DTSTART:20221030T010000
END:STANDARD
BEGIN:DAYLIGHT
TZOFFSETFROM:+0100
TZOFFSETTO:+0200
TZNAME:CEST
DTSTART:20230326T010000
END:DAYLIGHT
BEGIN:STANDARD
TZOFFSETFROM:+0200
TZOFFSETTO:+0100
TZNAME:CET
DTSTART:20231029T010000
END:STANDARD
END:VTIMEZONE
BEGIN:VEVENT
DTSTART;TZID=Europe/Berlin:20230119T180000
DTEND;TZID=Europe/Berlin:20230119T200000
DTSTAMP:20260424T153700
CREATED:20230102T170008Z
LAST-MODIFIED:20230102T170008Z
UID:387-1674151200-1674158400@esoc-climbing.de
SUMMARY:Annual General Meeting (AGM) 2022
DESCRIPTION:Another year has gone by\, and it is time to officially close it out. \nTherefore\, we would like to invite you to join us for the ESOC Climbing Club Annual General Meeting (AGM) on Thursday 19/01/2023 at 18:00. \nThe meeting will take place in person\, at ESOC (room to be announced). For ESOC Externals\, please let us know latest by Monday\, 16/01/2023 whether you wish to attend\, so we can inform the ESOC security to get your visitor badges prepared. \nAn invitation with the points to discuss has been distributed already. \nNote:  Please note that the Club is looking for new candidates for the committee positions of Chairman (*woman)\, Secretary and Equipment Officer. Furthermore\, we are looking for someone to support us on web design. If you are interested\, please don’t hesitate to contact us. We are happy to give you more information and answer any questions you might have. 
URL:https://esoc-climbing.de/event/annual-general-meeting-agm-2022/
CATEGORIES:AGM
END:VEVENT
BEGIN:VEVENT
DTSTART;TZID=Europe/Berlin:20220126T180000
DTEND;TZID=Europe/Berlin:20220126T200000
DTSTAMP:20260424T153700
CREATED:20220124T214049Z
LAST-MODIFIED:20220124T214050Z
UID:313-1643220000-1643227200@esoc-climbing.de
SUMMARY:Annual General Meeting (AGM) 2021
DESCRIPTION:We (the club committee) would like to invite you to join us for the ESOC Climbing Club Annual General Meeting (AGM) on Thursday\, 14/01/2021 at 19:00. \nThis year the event will be hosted on WebEx for well-known reasons. The invitation will be distributed separately.
URL:https://esoc-climbing.de/event/annual-general-meeting-agm-2021/
CATEGORIES:AGM
END:VEVENT
BEGIN:VEVENT
DTSTART;TZID=Europe/Berlin:20210114T190000
DTEND;TZID=Europe/Berlin:20210114T203000
DTSTAMP:20260424T153700
CREATED:20210112T080823Z
LAST-MODIFIED:20210112T092314Z
UID:284-1610650800-1610656200@esoc-climbing.de
SUMMARY:Annual General Meeting (AGM) 2020
DESCRIPTION:We (the club committee) would like to invite you to join us for the ESOC Climbing Club Annual General Meeting (AGM) on Thursday\, 14/01/2021 at 19:00. \nThis year the event will be hosted on WebEx for well-known reasons. The invitation will be distributed separately.
URL:https://esoc-climbing.de/event/annual-general-meeting-agm-2020/
LOCATION:WebEx
CATEGORIES:AGM
END:VEVENT
END:VCALENDAR